BEGIN:VCALENDAR
VERSION:2.0
PRODID:-//eventon.com NONSGML v1.0//EN
CALSCALE:GREGORIAN
METHOD:PUBLISH
BEGIN:VEVENT
UID:69eaf0553d790
DTSTAMP:20260424T042349Z
DTSTART:20261010T200000Z
DTEND:20261010T220000Z
LOCATION:
SUMMARY:Najaarsconcert
DESCRIPTION:Najaarsconcert\nhttps://www.harmoniekatwijk.nl/events/najaarsco
 ncert
URL:https://www.harmoniekatwijk.nl/events/najaarsconcert
END:VEVENT
END:VCALENDAR