BEGIN:VCALENDAR
VERSION:2.0
PRODID:-//eventon.com NONSGML v1.0//EN
CALSCALE:GREGORIAN
METHOD:PUBLISH
BEGIN:VEVENT
UID:69eaf0b58666f
DTSTAMP:20260424T042525Z
DTSTART:20260912T120000Z
DTEND:20260912T140000Z
LOCATION:
SUMMARY:Concert Open Monumentendag
DESCRIPTION:Concert Open Monumentendag\nhttps://www.harmoniekatwijk.nl/even
 ts/concert-open-monumentendag
URL:https://www.harmoniekatwijk.nl/events/concert-open-monumentendag
END:VEVENT
END:VCALENDAR