BEGIN:VCALENDAR
VERSION:2.0
PRODID:-//eventon.com NONSGML v1.0//EN
CALSCALE:GREGORIAN
METHOD:PUBLISH
BEGIN:VEVENT
UID:69eaf007a1904
DTSTAMP:20260424T042231Z
DTSTART:20260822T150000Z
DTEND:20260822T163000Z
LOCATION:
SUMMARY:Concert bij de Wilbert
DESCRIPTION:Concert bij de Wilbert\nhttps://www.harmoniekatwijk.nl/events/c
 oncert-bij-de-wilbert
URL:https://www.harmoniekatwijk.nl/events/concert-bij-de-wilbert
END:VEVENT
END:VCALENDAR