BEGIN:VCALENDAR
VERSION:2.0
PRODID:-//eventon.com NONSGML v1.0//EN
CALSCALE:GREGORIAN
METHOD:PUBLISH
BEGIN:VEVENT
UID:69e8be8e8b18d
DTSTAMP:20260422T122654Z
DTSTART:20260615T200000Z
DTEND:20260615T220000Z
LOCATION:
SUMMARY:Herdenking ‘Op zee gebleven‘
DESCRIPTION:Herdenking ‘Op zee gebleven‘\nhttps://www.harmoniekatwijk.n
 l/events/herdenking-op-zee-gebleven-2
URL:https://www.harmoniekatwijk.nl/events/herdenking-op-zee-gebleven-2
END:VEVENT
END:VCALENDAR