BEGIN:VCALENDAR
VERSION:2.0
PRODID:-//eventon.com NONSGML v1.0//EN
CALSCALE:GREGORIAN
METHOD:PUBLISH
BEGIN:VEVENT
UID:69e5e15edfa9b
DTSTAMP:20260420T081838Z
DTSTART:20260509T200000Z
DTEND:20260509T220000Z
LOCATION:
SUMMARY:Voorjaarsconcert
DESCRIPTION:Voorjaarsconcert\nhttps://www.harmoniekatwijk.nl/events/voorjaa
 rsconcert-4
URL:https://www.harmoniekatwijk.nl/events/voorjaarsconcert-4
END:VEVENT
END:VCALENDAR