BEGIN:VCALENDAR
VERSION:2.0
PRODID:-//eventon.com NONSGML v1.0//EN
CALSCALE:GREGORIAN
METHOD:PUBLISH
BEGIN:VEVENT
UID:69e7d7403145c
DTSTAMP:20260421T200000Z
DTSTART:20250828T200000Z
DTEND:20250828T220000Z
LOCATION:Kerklaan\,  Katwijk aan den Rijn
SUMMARY:Concert tijdens Najaarsfeesten Katwijk aan den Rijn
DESCRIPTION:Concert tijdens Najaarsfeesten Katwijk aan den Rijn\nhttps://ww
 w.harmoniekatwijk.nl/events/concert-tijdens-najaarsfeesten-katwijk-aan-den-
 rijn
URL:https://www.harmoniekatwijk.nl/events/concert-tijdens-najaarsfeesten-katwijk-aan-den-rijn
END:VEVENT
END:VCALENDAR