BEGIN:VCALENDAR
VERSION:2.0
PRODID:-//eventon.com NONSGML v1.0//EN
CALSCALE:GREGORIAN
METHOD:PUBLISH
BEGIN:VEVENT
UID:69ed22561d65e
DTSTAMP:20260425T202142Z
DTSTART:20230706T180000Z
DTEND:20230706T193000Z
LOCATION:
SUMMARY:Wijkconcert in de Zanderij
DESCRIPTION:Wijkconcert in de Zanderij\nhttps://www.harmoniekatwijk.nl/even
 ts/wijkconcert-in-de-zanderij
URL:https://www.harmoniekatwijk.nl/events/wijkconcert-in-de-zanderij
END:VEVENT
END:VCALENDAR