BEGIN:VCALENDAR
VERSION:2.0
PRODID:-//eventon.com NONSGML v1.0//EN
CALSCALE:GREGORIAN
METHOD:PUBLISH
BEGIN:VEVENT
UID:69e77270d8c95
DTSTAMP:20260421T124952Z
DTSTART:20230422T180000Z
DTEND:20230422T200000Z
LOCATION:TriPodia
SUMMARY:Voorjaarsconcert
DESCRIPTION:Op zaterdag 22 april is er een mooie muzikale samenwerking en d
 ubbelconcert van FloraBrass uit Rijnsburg en Harmonie Katwijk. Dit voorjaar
 sconcert in TriPodia belooft een muzikaal diverse avond te worden. Meer inf
 o en tickets: harmoniekatwijk.nl/Voorjaarsconcert\nhttps://www.harmoniekatw
 ijk.nl/events/voorjaarsconcert-2
URL:https://www.harmoniekatwijk.nl/events/voorjaarsconcert-2
END:VEVENT
END:VCALENDAR