BEGIN:VCALENDAR
VERSION:2.0
PRODID:-//eventon.com NONSGML v1.0//EN
CALSCALE:GREGORIAN
METHOD:PUBLISH
BEGIN:VEVENT
UID:69e8c4c9c48ff
DTSTAMP:20260422T125329Z
DTSTART:20191119T183000Z
DTEND:20191119T191500Z
LOCATION:De Kleine Joannes Kerkstraat 68\,  Katwijk
SUMMARY:Afsluitend concert Harmonie Kids
DESCRIPTION:Afsluitend concert Harmonie Kids\nhttps://www.harmoniekatwijk.n
 l/events/afsluitend-concert-harmonie-kids
URL:https://www.harmoniekatwijk.nl/events/afsluitend-concert-harmonie-kids
END:VEVENT
END:VCALENDAR